BEGIN:VCALENDAR
PRODID:NingEventWidget-v1
VERSION:2.0
METHOD:PUBLISH
BEGIN:VEVENT
UID:2606393:Event:863839
DTSTAMP:20260424T051141Z
SUMMARY:Zenith Aircraft \"Fly In to Summer\" Open House 2022
DESCRIPTION: \r\nJoin us for our informal \"Fly In to Summer\" Open Ho
 use and Fly-In at the Zenith Aircraft Factory on Saturday, June 18, 20
 22, as we welcome in summer 2022!Â This is a very informal grass-roots
  fly-in and builder gathering held at the kitÂ manufacturingÂ factory 
 in Mexico, Missouri.Â \r\n\r\nCheck out and share the Facebook event p
 age for more details about the \"Fly In To Summer\" open house\r\n\r\n
 Â \r\n\r\nIn contrast to our annual late summer annual ZENITH AIRCRAFT
  HOMECOMING and Open Hangar days (with scheduled workshops and forums)
 , the June event is an informal morning fly-in, with no specific sched
 uled activities.\r\n\r\nThe Zenith Aircraft factory will be open fromÂ
  8:00 am - 1:00 pmÂ for self-guided factory tours, demonstrations, and
  more. We'll have coffee in the morning and a local food truck will be
  offering a delicious hot breakfast / lunch!\r\nZenith builders: Pleas
 e let us know ahead of time if you plan to pick up parts or kit suppli
 es so that we can have your order ready for pick-up on Saturday!\r\n\r
 \nOwners of completed Zenith Aircraft are encouraged to fly-in to show
  off their completed project to fellow builders (we will provide tie-d
 own space and help facilitate ground transportation if possible). Let 
 us know of any special needs or requirements.\r\n\r\nPhotos from the 2
 021 event\r\nPhotos from the 2020 event\r\nVideo from the 2019 event\r
 \nPhoto from the 2019 event\r\n\r\n\n\nFor more information visit http
 s://zenith.aero/events/zenith-aircraft-fly-in-to-summer-open-house-202
 2
DTSTART:20220618T130000Z
DTEND:20220618T180000Z
CATEGORIES:fly-in, "fly in", summer, spring, "open house", zenith, 202
 0
LOCATION:Zenith Aircraft factory
WEBSITE:https://www.facebook.com/events/1724375547723093/
URL:https://www.facebook.com/events/1724375547723093/
CONTACT:5735819000
ORGANIZER:Zenith Aircraft Co.
ATTACH;FMTTYPE="image/jpeg":https://storage.ning.com/topology/rest/1.0
 /file/get/10510149271?profile=original
ATTENDEE;ROLE=REQ-PARTICIPANT;PARTSTAT=ACCEPTED;RSVP=TRUE;CN="Zenith A
 ero":https://zenith.aero/profile/ZenithAero
END:VEVENT
END:VCALENDAR
