BEGIN:VCALENDAR
PRODID:NingEventWidget-v1
VERSION:2.0
METHOD:PUBLISH
BEGIN:VEVENT
UID:2606393:Event:898602
DTSTAMP:20260422T020200Z
SUMMARY:Zenith Aircraft \"Fly In to Summer\" Open House 2023
DESCRIPTION: \r\nJoin us for our informal \"Fly In to Summer\" Open Ho
 use and Fly-In at the Zenith Aircraft Factory on Saturday, June 17, 20
 23, as we welcome in the summer! This is a very informal grass-roots 
 fly-in and builder gathering held at the kit manufacturing factory i
 n Mexico, Missouri. \r\n\r\nCheck out the Facebook event page for mor
 e details about the \"Fly In To Summer\" open house. Share the Facebo
 ok event page with your friends and invite them to join you!\r\nCome 
 a day early to learn all about building your own Zenith at the popular
  hands-on workshop class!\r\n\r\n \r\n\r\nIn contrast to our annual l
 ate summer annual ZENITH AIRCRAFT HOMECOMING and Open Hangar days (wit
 h scheduled workshops and forums), the June event is an informal morni
 ng fly-in, with no specific scheduled activities.\r\n\r\nThe Zenith Ai
 rcraft factory will be open from 8:00 am - 1:00 pm for self-guided f
 actory tours, demonstrations, and more. We'll have coffee in the morni
 ng and a local food truck will be offering a delicious hot breakfast /
  lunch!\r\nZenith builders: Please let us know ahead of time if you pl
 an to pick up parts or kit supplies so that we can have your order rea
 dy for pick-up on Saturday!\r\n\r\nOwners of completed Zenith Aircraft
  are encouraged to fly-in to show off their completed project to fello
 w builders (we will provide tie-down space and help facilitate ground 
 transportation if possible). Let us know of any special needs or requi
 rements.\r\n\r\nPhotos from the 2022 and 2021 event\r\nPhotos from the
  2020 event\r\nVideo from the 2019 event\r\nPhoto from the 2019 event\
 r\n\r\n\n\nFor more information visit https://zenith.aero/events/zenit
 h-aircraft-fly-in-to-summer-open-house-2023
DTSTART:20230617T130000Z
DTEND:20230617T180000Z
CATEGORIES:fly-in, "fly in", summer, spring, "open house", zenith, 202
 3
LOCATION:Zenith Aircraft factory
WEBSITE:https://www.facebook.com/events/771165194474023
URL:https://www.facebook.com/events/771165194474023
CONTACT:5735819000
ORGANIZER:Zenith Aircraft Co.
ATTACH;FMTTYPE="image/jpeg":https://storage.ning.com/topology/rest/1.0
 /file/get/11027177279?profile=original
ATTENDEE;ROLE=REQ-PARTICIPANT;PARTSTAT=ACCEPTED;RSVP=TRUE;CN="Zenith A
 ero":https://zenith.aero/profile/ZenithAero
END:VEVENT
END:VCALENDAR
