BEGIN:VCALENDAR
PRODID:NingEventWidget-v1
VERSION:2.0
METHOD:PUBLISH
BEGIN:VEVENT
UID:2606393:Event:964548
DTSTAMP:20260424T024404Z
SUMMARY:Zenith Aircraft \"Fly In to Summer\" Open House 2026
DESCRIPTION:Join us for our informal \"Fly In to Summer\" Open House a
 nd Fly-In at the Zenith Aircraft Factory on Saturday, June 20th, 2026,
  as we welcome in the summer flying season! This is a very informal g
 rass-roots fly-in and builder gathering held at the kit manufacturing
  factory in Mexico, Missouri. \r\n\r\nWe'll post more details as we 
 near the event\r\nCome a day early to learn all about building your ow
 n Zenith at the popular hands-on workshop class! (Prior registration r
 equired for workshop class)\r\nCheck out our newly expanded production
  facilities! Self-guided factory tours.\r\n\r\n \r\n\r\nIn contrast t
 o our annual September ZENITH HOMECOMING (held over two days, with sch
 eduled workshops and forums), the June event is a very informal mornin
 g fly-in, with no specific scheduled activities.\r\n\r\nThe Zenith Air
 craft factory will be open from 8:00 am - 1:00 pm for self-guided fa
 ctory tours, demonstrations, and more. We'll have coffee in the mornin
 g and a local food truck will be offering a delicious hot breakfast / 
 lunch!\r\nZenith builders: Please let us know ahead of time if you pla
 n to pick up parts or kit supplies so that we can have your order read
 y for pick-up on Saturday!\r\n\r\nOwners of completed Zenith Aircraft 
 are encouraged to fly-in to show off their completed project to fellow
  builders (we will provide tie-down space and help facilitate ground t
 ransportation if possible). Let us know of any special needs or requir
 ements.\r\n\r\n\"Fly-In to Summer\" photo album\r\nPhotos from the 202
 4 event\r\nPhotos / video from the 2023 event\r\nPhotos from the 2022 
 and 2021 event\r\nPhotos from the 2020 event\r\nVideo from the 2019 ev
 ent\r\n\r\n\n\nFor more information visit https://zenith.aero/events/z
 enith-aircraft-fly-in-to-summer-open-house-2026
DTSTART:20260620T130000Z
DTEND:20260620T180000Z
CATEGORIES:fly-in, "fly in", summer, spring, "open house", zenith, 202
 4
LOCATION:Zenith Aircraft factory
WEBSITE:
URL:
CONTACT:5735819000
ORGANIZER:Zenith Aircraft Co.
ATTACH;FMTTYPE="image/jpeg":https://storage.ning.com/topology/rest/1.0
 /file/get/31141532496?profile=original
ATTENDEE;ROLE=REQ-PARTICIPANT;PARTSTAT=ACCEPTED;RSVP=TRUE;CN="Zenith A
 ero":https://zenith.aero/profile/ZenithAero
END:VEVENT
END:VCALENDAR
