BEGIN:VCALENDAR
PRODID:NingEventWidget-v1
VERSION:2.0
METHOD:PUBLISH
BEGIN:VEVENT
UID:2606393:Event:616735
DTSTAMP:20260423T163315Z
SUMMARY:Zenith Aircraft \"Fly In to Summer\" Open House
DESCRIPTION:Join us for our annual \"Fly In to Summer\" Open Hangar Da
 y and Fly-In Gathering  at the Zenith Aircraft Factory: Saturday, Jun
 e 16, 2018.\r\nThis is an informal grass-roots Zenith fly-in and build
 er gathering held at the kit manufacturing factory in Mexico, Missou
 ri.\r\n\r\nShare this event with your Facebook friends\r\n\r\n \r\n\r
 \nIn contrast to our annual late summer / fall Open Hangar Days (with 
 scheduled workshops and forums), the June event is an informal morning
  fly-in, with no specific scheduled activities.\r\n\r\nThe Zenith Airc
 raft factory will be open from 8:00 am - 2:00 pm for self-guided fac
 tory tours, demonstrations, and more. Hot lunch and refreshments will 
 be available and we'll also have coffee in the morning.\r\n\r\n\r\nBuz
 zair Flight Academy will be attending with a couple of their Zenith LS
 A training aircraft. Contact Buzzair directly to schedule flight or tr
 ansition training during, before or after the Open Hangar Day. www.fly
 buzzair.com Tel. 931-244-7000\r\n\r\nOwners of completed Zenith Aircra
 ft are encouraged to fly-in to show off their completed project to fel
 low builders (we will provide tie-down space and help facilitate groun
 d transportation if possible). Let us know of any special needs or req
 uirements.\r\n\r\nVideo from the 2017 event\r\nVideo from the 2016 eve
 nt\r\n\n\nFor more information visit https://zenith.aero/events/zenith
 -aircraft-fly-in-to-summer-open-house
DTSTART:20180616T130000Z
DTEND:20180616T190000Z
CATEGORIES:fly-in, "fly in", summer, spring, "open house", zenith, 201
 7
LOCATION:Zenith Aircraft factory in Mexico, Missouri
WEBSITE:http://www.zenith.aero/profiles/blogs/fly-in-to-summer-2017
URL:http://www.zenith.aero/profiles/blogs/fly-in-to-summer-2017
CONTACT:573-581-9000
ORGANIZER:Zenith Aircraft Company
ATTACH;FMTTYPE="image/jpeg":http://storage.ning.com/topology/rest/1.0/
 file/get/2171052263?profile=original
ATTENDEE;ROLE=REQ-PARTICIPANT;PARTSTAT=ACCEPTED;RSVP=TRUE;CN="Zenith A
 ero":https://zenith.aero/profile/ZenithAero
ATTENDEE;ROLE=REQ-PARTICIPANT;PARTSTAT=ACCEPTED;RSVP=TRUE;CN="Richard 
 A. Crawford":https://zenith.aero/profile/RichardACrawford
ATTENDEE;ROLE=REQ-PARTICIPANT;PARTSTAT=TENTATIVE;RSVP=TRUE;CN="Doug Jo
 hnson":https://zenith.aero/profile/DougJohnson
END:VEVENT
END:VCALENDAR
