BEGIN:VCALENDAR
PRODID:NingEventWidget-v1
VERSION:2.0
METHOD:PUBLISH
BEGIN:VEVENT
UID:2606393:Event:695288
DTSTAMP:20260419T160141Z
SUMMARY:Zenith at the DeLand Sport Aviation Showcase in Florida: Novem
 ber 14 - 16, 2019
DESCRIPTION:Zenith Aircraft is returning to the 2019 DeLand Sport Avia
 tion Showcase: November 14 - 16 in DeLand, Florida.\r\nSign up now for
  the Zenith Workshop in DeLand. \r\nWorkshop space is limited, and pr
 ior registration is required. Call Zenith for details or with question
 s.\r\n\r\nZenith Aircraft Company's factory workshops have become popu
 lar with sport aviation enthusiasts, giving them the opportunity to ga
 in valuable hands-on experience in building their own Zenith Aircraft 
 kit plane.\r\n\r\nStarting on Thursday morning, November 14, Zenith st
 aff and volunteers will provide an overview of the fuselage / cabin as
 sembly of the all-metal STOL CH 750 Super Duty aircraft kit, putting t
 ogether the entire fuselage to demonstrate the ease of assembly made p
 ossible with final hole size match-drilled assemblies. Visitors are w
 elcome to observe and participate in the fuselage assembly demonstrati
 on, learning about assembly techniques and required tools and skills.\
 r\n\r\nThe hands-on rudder workshop begins on Friday (November 15) an
 d runs until Saturday morning (November 16). Each participant builds 
 and assembles their own Zenith aircraft rudder tail section from a sta
 ndard kit.\r\n\r\nParticipants \"graduate\" from the workshop upon com
 pleting construction of their own aircraft rudder tail section for one
  of Zenith Aircraft Company's popular kit aircraft designs, including 
 the popular new Zenith CH 750 series or the sleek CH 650 cruiser. \r
 \nShare the event on your Facebook page!\r\nPlan now to join us at the
  DeLand Sport Aviation Showcase in sunny Florida and gain hands-on exp
 erience in building your own Zenith aircraft kit!  \r\nSign up now fo
 r the Zenith Workshop in DeLand. \n\nFor more information visit https
 ://zenith.aero/events/zenith-at-the-deland-sport-aviation-showcase-in-
 florida-november-
DTSTART:20191114T150000Z
DTEND:20191116T180000Z
CATEGORIES:workshop, deland, sebring, florida, rudder, class
LOCATION:DeLand Sport Aviation Showcase
WEBSITE:http://www.zenith.aero/profiles/blogs/deland-2019
URL:http://www.zenith.aero/profiles/blogs/deland-2019
CONTACT:573-581-9000
ORGANIZER:Zenith Aircraft Co.
ATTACH;FMTTYPE="image/jpeg":https://storage.ning.com/topology/rest/1.0
 /file/get/3654053761?profile=original
ATTENDEE;ROLE=REQ-PARTICIPANT;PARTSTAT=ACCEPTED;RSVP=TRUE;CN="Zenith A
 ero":https://zenith.aero/profile/ZenithAero
ATTENDEE;ROLE=REQ-PARTICIPANT;PARTSTAT=ACCEPTED;RSVP=TRUE;CN="Herman E
 shuis":https://zenith.aero/profile/HermanEshuis
ATTENDEE;ROLE=REQ-PARTICIPANT;PARTSTAT=ACCEPTED;RSVP=TRUE;CN="Buddy Se
 ssoms":https://zenith.aero/profile/BuddySessoms
ATTENDEE;ROLE=REQ-PARTICIPANT;PARTSTAT=ACCEPTED;RSVP=TRUE;CN="Sebastie
 n Heintz":https://zenith.aero/profile/SHeintz
END:VEVENT
END:VCALENDAR
