BEGIN:VCALENDAR
PRODID:NingEventWidget-v1
VERSION:2.0
METHOD:PUBLISH
BEGIN:VEVENT
UID:2606393:Event:630797
DTSTAMP:20260424T131122Z
SUMMARY:Zenith Banquet at EAA Oshkosh AirVenture 2018
DESCRIPTION:Zenith Aircraft Builders Banquet for 2018!\r\n\r\nOur even
 t will once again be held at the Oshkosh Elks Lodge, 175 West Fernau A
 ve, in Oshkosh, on Thursday, July 26. As always we have very comfortab
 le seating, our own private bar, award winning food, and door prizes! 
 The full bar will open at 5:30 PM for people that would like to come a
 nd relax early. Dinner starts at 7:00 PM. Tickets are once again avail
 able at the door for $20 per person.\r\nThe Elks Lodge will take cash,
  Master Card, & Visa. Any profits from the banquet and from the 50/50 
 raffles go toward the Elks charities that include the Veterans groups 
 at the King Retirement Home, and our Elks Lodge statewide scholarship 
 programs.\r\n\r\nEAA Zenith Show plane Parking\r\nZenith show plane pa
 rking will be just north of the Homebuilders center on the flight line
  in its usual place across from the Zenith factory display. Please fol
 low the NOTAMS instructions for signage for parking, and it would be a
  great idea to add another sign that says \"ZENITH\". When you get nea
 r the parking area flagmen will help get you to the location requested
 . Most of the parking volunteers know what Zenith airplanes look like,
  but any extra signage helps! Once your aircraft is parked, EAA's poli
 cy is no engine operations in the parking area and the aircraft will n
 eed to be pushed to the east of the safety line for engine start. If y
 ou are anticipating demonstrating or flying any of the aircraft during
  the convention, park your aircraft as close to the flight line as you
  can.\r\n\r\nAccommodations\r\nThe Oshkosh Elks Lodge has a very large
  parking area and they are offering motor home parking for $10 per nig
 ht for anyone coming to the banquet before coming to the EAA, or if yo
 u need overnight accommodations for after the banquet. For more inform
 ation please call me at 920-237-1450 or E-mail me at backstagelive@gma
 il.com to make reservations. Electrical spots are available on a first
  come basis.\r\nEveryone have a very safe and wonderful trip to Oshkos
 h. If I can be your Oshkosh connection for anything please call me at 
 920-237-1450 or e-mail me at backstagelive@gmail.com and I can help.\r
 \nWatch for updates.\r\nJoe Scheibinger, better known as \"Joe in Oshk
 osh\"\r\n\r\nDetails and updates: See Joe's Discussion board post\r\n\
 r\nZenith Banquet\r\n\n\nFor more information visit https://zenith.aer
 o/events/zenith-banquet-at-eaa-oshkosh-airventure-2018
DTSTART:20180727T000000Z
DTEND:20180727T023000Z
CATEGORIES:zenith, banquet, zenair, oshkosh, eaa, airventure, dinner
LOCATION:Oshkosh Elks Club
WEBSITE:
URL:
CONTACT:920-237-1450
ORGANIZER:Zenith.Aero
ATTACH;FMTTYPE="image/jpeg":http://storage.ning.com/topology/rest/1.0/
 file/get/2268513192?profile=original
ATTENDEE;ROLE=REQ-PARTICIPANT;PARTSTAT=ACCEPTED;RSVP=TRUE;CN="Bryan Ma
 rtin":https://zenith.aero/profile/BryanMartin
ATTENDEE;ROLE=REQ-PARTICIPANT;PARTSTAT=ACCEPTED;RSVP=TRUE;CN="Zenith A
 ero":https://zenith.aero/profile/ZenithAero
ATTENDEE;ROLE=REQ-PARTICIPANT;PARTSTAT=ACCEPTED;RSVP=TRUE;CN="Daniel N
 iendorff":https://zenith.aero/profile/DanielNiendorff
ATTENDEE;ROLE=REQ-PARTICIPANT;PARTSTAT=ACCEPTED;RSVP=TRUE;CN="Patrick 
 Hoyt":https://zenith.aero/profile/PatrickHoyt
ATTENDEE;ROLE=REQ-PARTICIPANT;PARTSTAT=ACCEPTED;RSVP=TRUE;CN="Sebastie
 n Heintz":https://zenith.aero/profile/SHeintz
ATTENDEE;ROLE=REQ-PARTICIPANT;PARTSTAT=ACCEPTED;RSVP=TRUE;CN="Jeffery 
 L Bolton":https://zenith.aero/profile/JefferyLBolton
END:VEVENT
END:VCALENDAR
