BEGIN:VCALENDAR
PRODID:NingEventWidget-v1
VERSION:2.0
METHOD:PUBLISH
BEGIN:VEVENT
UID:2606393:Event:869124
DTSTAMP:20260422T055621Z
SUMMARY:Zenith Banquet at EAA Oshkosh AirVenture 2022
DESCRIPTION:\r\nZenith Aircraft Builders Banquet at Oshkosh AirVenture
  2022, celebrating Zenith Aircraft's 30th anniversary!\r\nThank you on
 ce again to Joe Scheibinger for coordinating this annual event:\r\n\r\
 n\"The 2022 Zenith Aircraft Builders Banquet will be held on Thursday,
  July 28th, at a huge new location just across the street from the Wit
 tman Airport grounds! The Mineshaft in Oshkosh will host this year's b
 anquet. We have reserve seating for 150 builders and the price came wa
 y down from last year! Tickets will be $20 for a spectacular night of 
 great food and good times with your fellow builders. You can look up t
 he Mineshaft on the Internet to see this spectacular place! More info 
 will be coming soon as we finalize everything. You will be able to tak
 e a shuttle bus from the tower, or you can take the inside shuttle to 
 the Hilton exit and walk over! Parking is also spectacular! Stay tuned
  for more information!\"\r\n\r\nJoin us for cocktails starting at 5:30
  PM to relax before dinner. Dinner starts at 7:00 PM.\r\n\r\nRSVP here
  for the event\r\n\r\n\r\nTickets are once again available at the door
  for $20.00 per person, but please RSVP to help us plan. \r\n\r\n\r\n
 \r\n\r\n\"Everyone have a very safe and wonderful trip to Oshkosh. If 
 I can be your Oshkosh connection for anything please call me at 920-23
 7-1450 or e-mail me at backstagelive@gmail.com and I can help.\r\nWatc
 h for updates.\"\r\nJoe Scheibinger, better known as \"Joe in Oshkosh\
 "\n\nFor more information visit https://zenith.aero/events/zenith-banq
 uet-at-eaa-oshkosh-airventure-2022
DTSTART:20220729T000000Z
DTEND:20220729T023000Z
CATEGORIES:zenith, banquet, zenair, oshkosh, eaa, airventure, dinner
LOCATION:The Mineshaft Oshkosh
WEBSITE:https://forms.gle/U8rFgsyUsYXbAJAK9
URL:https://forms.gle/U8rFgsyUsYXbAJAK9
CONTACT:920-237-1450
ORGANIZER:Zenith.Aero
ATTACH;FMTTYPE="image/jpeg":http://storage.ning.com/topology/rest/1.0/
 file/get/2268513192?profile=original
ATTENDEE;ROLE=REQ-PARTICIPANT;PARTSTAT=ACCEPTED;RSVP=TRUE;CN="Zenith A
 ero":https://zenith.aero/profile/ZenithAero
END:VEVENT
END:VCALENDAR
