BEGIN:VCALENDAR
PRODID:NingEventWidget-v1
VERSION:2.0
METHOD:PUBLISH
BEGIN:VEVENT
UID:2606393:Event:343024
DTSTAMP:20260424T074430Z
SUMMARY:Sun'n Fun Forum: The new Zenith CH 750 Cruzer - The convergenc
 e of cruise and STOL
DESCRIPTION:Education Forum Presentation and Discussion: The new Zenit
 h CH 750 Cruzer - The convergence of cruise and STOL\n\n\nFrom previou
 s years:\n\n\nThe SUN 'n FUN Educational Forums are held in the Centra
 l Florida Aerospace Academy (CFAA) across from the Florida Air Museum 
 that houses eleven classrooms, each with a different forum every hour.
 \n\nFor more information visit https://zenith.aero/events/zenith-ch-75
 0-designs-cruiser-and-stol
DTSTART:20150424T170000Z
DTEND:20150424T180000Z
CATEGORIES:forum
LOCATION:Room 11 - Central Florida Aerospace Academy (CFAA)
WEBSITE:http://www.sun-n-fun.org/FlyIn/EventActivitiesAndSchedules/for
 ums.aspx
URL:http://www.sun-n-fun.org/FlyIn/EventActivitiesAndSchedules/forums.
 aspx
CONTACT:
ORGANIZER;CN="Zenith.Aero":https://zenith.aero/profile/Admin
ATTACH;FMTTYPE="image/jpeg":http://storage.ning.com/topology/rest/1.0/
 file/get/2268211635?profile=original
ATTENDEE;ROLE=REQ-PARTICIPANT;PARTSTAT=ACCEPTED;RSVP=TRUE;CN="Zenith.A
 ero":https://zenith.aero/profile/Admin
END:VEVENT
END:VCALENDAR
