BEGIN:VCALENDAR
PRODID:NingEventWidget-v1
VERSION:2.0
METHOD:PUBLISH
BEGIN:VEVENT
UID:2606393:Event:160778
DTSTAMP:20260424T030454Z
SUMMARY:Zenith Factory Workshop: September , 2014
DESCRIPTION:Zenith Factory Workshop We invite you to join us at our ne
 xt factory workshop to gain hands-on experience in building your own Z
 enith aircraft kit!\n\n Zenith Aircraft Company's factory workshops ha
 ve become popular with sport aviation enthusiasts, giving them the opp
 ortunity to gain valuable hands-on experience in building their own Ze
 nith Aircraft kit plane. Participants get the opportunity to actually 
 start assembling kit parts under the direction and guidance of factory
  professionals. They \"graduate\" from the workshop upon completing co
 nstruction of their own aircraft rudder tail section for one of Zenith
  Aircraft Company's popular kit aircraft designs, including the popula
 r new Zenith CH 750 series or the sleek CH 650 cruiser.\nDetails / Si
 gn Up\n\nFor more information visit https://zenith.aero/events/zenith-
 factory-wksp
DTSTART:20150916T140000Z
DTEND:20150917T170000Z
CATEGORIES:workshop, seminar, rudder, factory, zenith
LOCATION:Zenith Aircraft factory
WEBSITE:http://www.zenithair.com/workshop.htm
URL:http://www.zenithair.com/workshop.htm
CONTACT:573-581-9000
ORGANIZER:Zenith Aircraft Co.
ATTACH;FMTTYPE="image/jpeg":http://storage.ning.com/topology/rest/1.0/
 file/get/2268215445?profile=original
ATTENDEE;ROLE=REQ-PARTICIPANT;PARTSTAT=ACCEPTED;RSVP=TRUE;CN="Zenith.A
 ero":https://zenith.aero/profile/Admin
END:VEVENT
END:VCALENDAR
