BEGIN:VCALENDAR
PRODID:NingEventWidget-v1
VERSION:2.0
METHOD:PUBLISH
BEGIN:VEVENT
UID:2606393:Event:194609
DTSTAMP:20260424T034006Z
SUMMARY:Zenith Factory Workshop
DESCRIPTION:Zenith Factory Workshop We invite you to join us at our ne
 xt factory workshop to gain hands-on experience in building your own Z
 enith aircraft kit! Zenith Aircraft Company's factory workshops have b
 ecome popular with sport aviation enthusiasts, giving them the opportu
 nity to gain valuable hands-on experience in building their own Zenith
  Aircraft kit plane. Participants get the opportunity to actually star
 t assembling kit parts under the direction and guidance of factory pro
 fessionals. They \"graduate\" from the workshop upon completing constr
 uction of their own aircraft rudder tail section for one of Zenith Air
 craft Company's popular kit aircraft designs, including the popular hi
 gh wing CH 750 series or the sleek CH 650 cruiser. The workshop exper
 ience includes a demo flight in a factory airplane!\n\nFor more inform
 ation visit https://zenith.aero/events/zenith-factory-workshop-14
DTSTART:20140206T150000Z
DTEND:20140207T180000Z
CATEGORIES:workshop
LOCATION:Zenith Aircraft factory
WEBSITE:http://www.zenithair.com/workshop.htm
URL:http://www.zenithair.com/workshop.htm
CONTACT:573-581-9000
ORGANIZER;CN="Zenith.Aero":https://zenith.aero/profile/Admin
ATTACH;FMTTYPE="image/jpeg":http://storage.ning.com/topology/rest/1.0/
 file/get/2268292998?profile=original
ATTENDEE;ROLE=REQ-PARTICIPANT;PARTSTAT=ACCEPTED;RSVP=TRUE;CN="Zenith.A
 ero":https://zenith.aero/profile/Admin
END:VEVENT
END:VCALENDAR
