BEGIN:VCALENDAR
PRODID:NingEventWidget-v1
VERSION:2.0
METHOD:PUBLISH
BEGIN:VEVENT
UID:2606393:Event:194790
DTSTAMP:20260422T015630Z
SUMMARY:Zenith Factory Workshop
DESCRIPTION:Hands-on introductory workshop on building an all-metal 
 Zenith Aircraft kit plane We invite you to join us at our next factory
  workshop to gain hands-on experience in building your own Zenith airc
 raft kit! Zenith Aircraft Company's factory workshops have become popu
 lar with sport aviation enthusiasts, giving them the opportunity to ga
 in valuable hands-on experience in building their own Zenith Aircraft 
 kit plane. Participants get the opportunity to actually start assembli
 ng kit parts under the direction and guidance of factory professionals
 . They \"graduate\" from the workshop upon completing construction of 
 their own aircraft rudder tail section for one of Zenith Aircraft Comp
 any's popular kit aircraft designs, including the popular new Zenith C
 H 750 or the sleek CH 650 cruiser. The workshop experience includes a 
 demo flight in a factory airplane!\n\nFor more information visit https
 ://zenith.aero/events/zenith-factory-workshop-15
DTSTART:20140306T150000Z
DTEND:20140307T180000Z
CATEGORIES:workshop
LOCATION:Zenith Aircraft factory
WEBSITE:http://www.zenithair.com/workshop.htm
URL:http://www.zenithair.com/workshop.htm
CONTACT:573-581-9000
ORGANIZER;CN="Zenith.Aero":https://zenith.aero/profile/Admin
ATTACH;FMTTYPE="image/jpeg":http://storage.ning.com/topology/rest/1.0/
 file/get/2268290056?profile=original
ATTENDEE;ROLE=REQ-PARTICIPANT;PARTSTAT=ACCEPTED;RSVP=TRUE;CN="Zenith.A
 ero":https://zenith.aero/profile/Admin
END:VEVENT
END:VCALENDAR
