BEGIN:VCALENDAR
PRODID:NingEventWidget-v1
VERSION:2.0
METHOD:PUBLISH
BEGIN:VEVENT
UID:2606393:Event:194714
DTSTAMP:20260423T085710Z
SUMMARY:Zenith Factory Workshop: July 9 & 10, 2015
DESCRIPTION:Zenith Factory Workshop\n\nWe invite you to join us at our
  next factory workshop to gain hands-on experience in building your ow
 n Zenith aircraft kit! Zenith Aircraft Company's factory workshops hav
 e become popular with sport aviation enthusiasts, giving them the oppo
 rtunity to gain valuable hands-on experience in building their own Zen
 ith Aircraft kit plane. Participants get the opportunity to actually s
 tart assembling kit parts under the direction and guidance of factory 
 professionals. They \"graduate\" from the workshop upon completing con
 struction of their own aircraft rudder tail section for one of Zenith 
 Aircraft Company's popular kit aircraft designs, including the popular
  new CH 750 series or the sleek CH 650 cruiser. The workshop experienc
 e includes a demo flight in a factory airplane!\nSign up / Details\n\n
 \n\nFor more information visit https://zenith.aero/events/zenith-facto
 ry-workshop-16
DTSTART:20150709T140000Z
DTEND:20150710T170000Z
CATEGORIES:workshop
LOCATION:Zenith Aircraft factory
WEBSITE:http://www.zenithair.com/workshop.htm
URL:http://www.zenithair.com/workshop.htm
CONTACT:573-581-9000
ORGANIZER;CN="Zenith.Aero":https://zenith.aero/profile/Admin
ATTACH;FMTTYPE="image/jpeg":http://storage.ning.com/topology/rest/1.0/
 file/get/2268290056?profile=original
ATTENDEE;ROLE=REQ-PARTICIPANT;PARTSTAT=ACCEPTED;RSVP=TRUE;CN="Zenith.A
 ero":https://zenith.aero/profile/Admin
END:VEVENT
END:VCALENDAR
