BEGIN:VCALENDAR
PRODID:NingEventWidget-v1
VERSION:2.0
METHOD:PUBLISH
BEGIN:VEVENT
UID:2606393:Event:133457
DTSTAMP:20260421T221631Z
SUMMARY:Zenith Factory Workshop
DESCRIPTION:Zenith Factory Workshop We invite you to join us at our ne
 xt factory workshop to gain hands-on experience in building your own Z
 enith aircraft kit! Zenith Aircraft Company's factory workshops have b
 ecome popular with sport aviation enthusiasts, giving them the opportu
 nity to gain valuable hands-on experience in building their own Zenith
  Aircraft kit plane. Participants get the opportunity to actually star
 t assembling kit parts under the direction and guidance of factory pro
 fessionals. They \"graduate\" from the workshop upon completing constr
 uction of their own aircraft rudder tail section for one of Zenith Air
 craft Company's popular kit aircraft designs, including the popular ne
 w STOL CH 750 or the sleek CH 650 cruiser.\n\nFor more information v
 isit https://zenith.aero/events/zenith-factory-workshop-333
DTSTART:20140424T140000Z
DTEND:20140425T170000Z
CATEGORIES:workshop
LOCATION:Zenith Aircraft factory
WEBSITE:http://www.zenithair.com/workshop.htm
URL:http://www.zenithair.com/workshop.htm
CONTACT:573-581-9000
ORGANIZER:Zenith Aircraft Co.
ATTACH;FMTTYPE="image/jpeg":http://storage.ning.com/topology/rest/1.0/
 file/get/2268211668?profile=original
ATTENDEE;ROLE=REQ-PARTICIPANT;PARTSTAT=ACCEPTED;RSVP=TRUE;CN="Zenith.A
 ero":https://zenith.aero/profile/Admin
END:VEVENT
END:VCALENDAR
