BEGIN:VCALENDAR
PRODID:NingEventWidget-v1
VERSION:2.0
METHOD:PUBLISH
BEGIN:VEVENT
UID:2606393:Event:902777
DTSTAMP:20260424T034416Z
SUMMARY:Zenith Factory Workshop: August 10 & 11, 2023
DESCRIPTION:Zenith Aircraft Hands-On Workshop \r\nWe invite you to joi
 n us at our August 2023 factory workshop class to gain hands-on experi
 ence in building your own Zenith aircraft kit! \r\nZenith Aircraft Com
 pany's factory workshops are popular with sport aviation enthusiasts, 
 giving them the opportunity to gain valuable hands-on experience in bu
 ilding their own Zenith Aircraft kit plane. Participants get the oppor
 tunity to actually start assembling kit parts under the direction and 
 guidance of factory professionals.\r\nOf course, going up for a demo f
 light is an important part of the workshop experience!\r\n\r\nParticip
 ants \"graduate\" from the workshop upon completing construction of th
 eir own aircraft rudder tail section for one of Zenith Aircraft Compan
 y's popular kit aircraft designs, including the popular new Zenith CH 
 750 series or the sleek CH 650 cruiser.\r\nDetails / Sign Up\r\n\r\nP
 articipating at the factory workshop makes an excellent getaway for yo
 u and your spouse or a friend! Spend a couple of days at the Zenith
  Aircraft factory and meet with fellow aviation enthusiasts - all whi
 le gaining valuable hands-on building skills.\r\n\n\nFor more informat
 ion visit https://zenith.aero/events/zenith-factory-workshop-august-10
 -11-2023
DTSTART:20230810T140000Z
DTEND:20230811T170000Z
CATEGORIES:workshop
LOCATION:Zenith Aircraft factory
WEBSITE:https://www.zenithair.co/zenithstore/product/august-workshop/
URL:https://www.zenithair.co/zenithstore/product/august-workshop/
CONTACT:5735819000
ORGANIZER:Zenith Aircraft Co.
ATTACH;FMTTYPE="image/jpeg":https://storage.ning.com/topology/rest/1.0
 /file/get/10457322668?profile=original
ATTENDEE;ROLE=REQ-PARTICIPANT;PARTSTAT=ACCEPTED;RSVP=TRUE;CN="Sebastie
 n Heintz":https://zenith.aero/profile/SHeintz
ATTENDEE;ROLE=REQ-PARTICIPANT;PARTSTAT=ACCEPTED;RSVP=TRUE;CN="Zenith A
 ero":https://zenith.aero/profile/ZenithAero
ATTENDEE;ROLE=REQ-PARTICIPANT;PARTSTAT=TENTATIVE;RSVP=TRUE;CN="Ron Moo
 re":https://zenith.aero/profile/RonMoore174
END:VEVENT
END:VCALENDAR
