BEGIN:VCALENDAR
PRODID:NingEventWidget-v1
VERSION:2.0
METHOD:PUBLISH
BEGIN:VEVENT
UID:2606393:Event:870379
DTSTAMP:20260424T051004Z
SUMMARY:Zenith Factory Workshop: August 11 & 12 - FULL
DESCRIPTION:This workshop class is at FULL capacity.\r\n\r\nZenith Air
 craft Hands-On Workshop\r\nWe invite you to join us at our August 2022
  factory workshop to gain hands-on experience in building your own Zen
 ith aircraft kit!\r\nZenith Aircraft Company's factory workshops have 
 become popular with sport aviation enthusiasts, giving them the opport
 unity to gain valuable hands-on experience in building their own Zenit
 h Aircraft kit plane. Participants get the opportunity to actually sta
 rt assembling kit parts under the direction and guidance of factory pr
 ofessionals.\r\nOf course, going up for a demo flight is an important 
 part of the workshop experience!\r\n\r\nParticipants \"graduate\" from
  the workshop upon completing construction of their own aircraft rudde
 r tail section for one of Zenith Aircraft Company's popular kit aircra
 ft designs, including the popular new Zenith CH 750 series or the slee
 k CH 650 cruiser.\r\nDetails / Sign Up\r\n\r\nParticipating at the fa
 ctory workshop makes an excellent getaway for you and your spouse or
  a friend! Spend a couple of days at the Zenith Aircraft factory and
  meet with fellow aviation enthusiasts - all while gaining valuable ha
 nds-on building skills.\r\n\n\nFor more information visit https://zeni
 th.aero/events/zenith-factory-workshop-august-11-12-2022
DTSTART:20220811T140000Z
DTEND:20220812T200000Z
CATEGORIES:workshop
LOCATION:Zenith Aircraft factory
WEBSITE:http://zenithair.com/events.htm
URL:http://zenithair.com/events.htm
CONTACT:5735819000
ORGANIZER:Zenith Aircraft Co.
ATTACH;FMTTYPE="image/jpeg":https://storage.ning.com/topology/rest/1.0
 /file/get/10457322668?profile=original
ATTENDEE;ROLE=REQ-PARTICIPANT;PARTSTAT=ACCEPTED;RSVP=TRUE;CN="Zenith A
 ero":https://zenith.aero/profile/ZenithAero
END:VEVENT
END:VCALENDAR
