BEGIN:VCALENDAR
PRODID:NingEventWidget-v1
VERSION:2.0
METHOD:PUBLISH
BEGIN:VEVENT
UID:2606393:Event:467547
DTSTAMP:20260424T054949Z
SUMMARY:Zenith Factory Workshop: December 10 & 11, 2015
DESCRIPTION:Zenith Factory Workshop\n We invite you to join us at our 
 next factory workshop to gain hands-on experience in building your own
  Zenith aircraft kit! \nZenith Aircraft Company's factory workshops h
 ave become popular with sport aviation enthusiasts, giving them the op
 portunity to gain valuable hands-on experience in building their own Z
 enith Aircraft kit plane. Participants get the opportunity to actually
  start assembling kit parts under the direction and guidance of factor
 y professionals. They \"graduate\" from the workshop upon completing c
 onstruction of their own aircraft rudder tail section for one of Zenit
 h Aircraft Company's popular kit aircraft designs, including the popul
 ar new Zenith CH 750 series or the sleek CH 650 cruiser.\nDetails / S
 ign Up\n\n\nFor more information visit https://zenith.aero/events/zeni
 th-factory-workshop-december-10-11-2015
DTSTART:20151210T150000Z
DTEND:20151211T180000Z
CATEGORIES:workshop
LOCATION:Zenith Aircraft factory
WEBSITE:http://www.zenithair.com/workshop.htm
URL:http://www.zenithair.com/workshop.htm
CONTACT:573-581-9000
ORGANIZER:Zenith Aircraft Co.
ATTACH;FMTTYPE="image/jpeg":http://storage.ning.com/topology/rest/1.0/
 file/get/2268472573?profile=original
ATTENDEE;ROLE=REQ-PARTICIPANT;PARTSTAT=ACCEPTED;RSVP=TRUE;CN="Zenith.A
 ero":https://zenith.aero/profile/Admin
END:VEVENT
END:VCALENDAR
