BEGIN:VCALENDAR
PRODID:NingEventWidget-v1
VERSION:2.0
METHOD:PUBLISH
BEGIN:VEVENT
UID:2606393:Event:484717
DTSTAMP:20260424T054948Z
SUMMARY:Zenith Factory Workshop: February 4 & 5, 2016
DESCRIPTION:Zenith Factory Workshop\n\n\nWe invite you to join us at o
 ur next factory workshop to gain hands-on experience in building your 
 own Zenith aircraft kit! Zenith Aircraft Company's factory workshops h
 ave become popular with sport aviation enthusiasts, giving them the op
 portunity to gain valuable hands-on experience in building their own Z
 enith Aircraft kit plane. Participants get the opportunity to actually
  start assembling kit parts under the direction and guidance of factor
 y professionals. They \"graduate\" from the workshop upon completing c
 onstruction of their own aircraft rudder tail section for one of Zenit
 h Aircraft Company's popular kit aircraft designs, including the popul
 ar new CH 750 series or the sleek CH 650 cruiser.\nThe workshop experi
 ence includes a demo flight in a factory airplane!\nSign Up / Details\
 n\nFor more information visit https://zenith.aero/events/zenith-factor
 y-workshop-february-4-5-2016
DTSTART:20160204T150000Z
DTEND:20160205T180000Z
CATEGORIES:workshop, zenith, factory
LOCATION:Zenith Aircraft factory
WEBSITE:http://www.zenithair.com/workshop.htm
URL:http://www.zenithair.com/workshop.htm
CONTACT:573-581-9000
ORGANIZER:Zenith Aircraft Co.
ATTACH;FMTTYPE="image/jpeg":http://storage.ning.com/topology/rest/1.0/
 file/get/2268211668?profile=original
ATTENDEE;ROLE=REQ-PARTICIPANT;PARTSTAT=ACCEPTED;RSVP=TRUE;CN="Sebastie
 n Heintz":https://zenith.aero/profile/SHeintz
END:VEVENT
END:VCALENDAR
