BEGIN:VCALENDAR
PRODID:NingEventWidget-v1
VERSION:2.0
METHOD:PUBLISH
BEGIN:VEVENT
UID:2606393:Event:850168
DTSTAMP:20260419T215914Z
SUMMARY:Zenith Factory Workshop: January 27 & 28, 2022
DESCRIPTION:Zenith Aircraft Hands-On Workshop\r\nWe invite you to join
  us at our January 2022 factory workshop to gain hands-on experience i
 n building your own Zenith aircraft kit! \r\nZenith Aircraft Company'
 s factory workshops have become popular with sport aviation enthusiast
 s, giving them the opportunity to gain valuable hands-on experience in
  building their own Zenith Aircraft kit plane. Participants get the op
 portunity to actually start assembling kit parts under the direction a
 nd guidance of factory professionals.\r\nOf course, going up for a dem
 o flight is an important part of the workshop experience!\r\n\r\nParti
 cipants \"graduate\" from the workshop upon completing construction of
  their own aircraft rudder tail section for one of Zenith Aircraft Com
 pany's popular kit aircraft designs, including the popular new Zenith 
 CH 750 series or the sleek CH 650 cruiser.\r\nDetails / Sign Up\r\n\r
 \nParticipating at the factory workshop makes an excellent getaway for
  you and your spouse or a friend! Spend a couple of days at the Zen
 ith Aircraft factory and meet with fellow aviation enthusiasts - all 
 while gaining valuable hands-on building skills.\r\nAnd don't forget: 
 A demo flight is part of the factory workshop experience in a Zenith f
 actory demo airplane!\r\n\n\nFor more information visit https://zenith
 .aero/events/zenith-factory-workshop-january-27-28-2022
DTSTART:20220127T150000Z
DTEND:20220128T210000Z
CATEGORIES:workshop
LOCATION:Zenith Aircraft factory
WEBSITE:https://www.zenithair.co/zenithstore/product/workshop-january-
 2022/
URL:https://www.zenithair.co/zenithstore/product/workshop-january-2022
 /
CONTACT:5735819000
ORGANIZER:Zenith Aircraft Co.
ATTACH;FMTTYPE="image/jpeg":https://storage.ning.com/topology/rest/1.0
 /file/get/8741634496?profile=original
ATTENDEE;ROLE=REQ-PARTICIPANT;PARTSTAT=ACCEPTED;RSVP=TRUE;CN="Sebastie
 n Heintz":https://zenith.aero/profile/SHeintz
ATTENDEE;ROLE=REQ-PARTICIPANT;PARTSTAT=ACCEPTED;RSVP=TRUE;CN="Zenith A
 ero":https://zenith.aero/profile/ZenithAero
END:VEVENT
END:VCALENDAR
