BEGIN:VCALENDAR
PRODID:NingEventWidget-v1
VERSION:2.0
METHOD:PUBLISH
BEGIN:VEVENT
UID:2606393:Event:868324
DTSTAMP:20260424T062411Z
SUMMARY:Zenith Factory Workshop: June 16 & 17, 2022
DESCRIPTION:Zenith Aircraft Hands-On Workshop\r\nWe invite you to join
  us at our June 2022 factory workshop to gain hands-on experience in b
 uilding your own Zenith aircraft kit! This workshop event is held righ
 t before the Zenith \"Fly-In to Summer\" event on Saturday morning at 
 the factory.\r\nZenith Aircraft Company's factory workshops have becom
 e popular with sport aviation enthusiasts, giving them the opportunity
  to gain valuable hands-on experience in building their own Zenith Air
 craft kit plane. Participants get the opportunity to actually start as
 sembling kit parts under the direction and guidance of factory profess
 ionals.\r\nOf course, going up for a demo flight is an important part 
 of the workshop experience!\r\n\r\nParticipants \"graduate\" from the 
 workshop upon completing construction of their own aircraft rudder tai
 l section for one of Zenith Aircraft Company's popular kit aircraft de
 signs, including the popular new Zenith CH 750 series or the sleek CH 
 650 cruiser.\r\nDetails / Sign Up\r\n\r\nThis workshop event is held 
 right before the Zenith \"Fly-In to Summer\" event on Saturday, June 1
 8, morning at the factory.\r\nParticipating at the factory workshop ma
 kes an excellent getaway for you and your spouse or a friend! Spend 
 a couple of days at the Zenith Aircraft factory and meet with fellow
  aviation enthusiasts - all while gaining valuable hands-on building s
 kills.\r\n\n\nFor more information visit https://zenith.aero/events/ze
 nith-factory-workshop-june-16-17-2022
DTSTART:20220616T140000Z
DTEND:20220617T200000Z
CATEGORIES:workshop
LOCATION:Zenith Aircraft factory
WEBSITE:http://zenithair.com/events.htm
URL:http://zenithair.com/events.htm
CONTACT:5735819000
ORGANIZER:Zenith Aircraft Co.
ATTACH;FMTTYPE="image/jpeg":https://storage.ning.com/topology/rest/1.0
 /file/get/10457322668?profile=original
ATTENDEE;ROLE=REQ-PARTICIPANT;PARTSTAT=ACCEPTED;RSVP=TRUE;CN="Zenith A
 ero":https://zenith.aero/profile/ZenithAero
END:VEVENT
END:VCALENDAR
