BEGIN:VCALENDAR
PRODID:NingEventWidget-v1
VERSION:2.0
METHOD:PUBLISH
BEGIN:VEVENT
UID:2606393:Event:484721
DTSTAMP:20260424T051005Z
SUMMARY:Zenith Factory Workshop: March 3 & 4, 2016
DESCRIPTION:Zenith Factory Workshop\n We invite you to join us at our 
 next factory workshop to gain hands-on experience in building your own
  Zenith aircraft kit!  \nZenith Aircraft Company's factory workshops 
 have become popular with sport aviation enthusiasts, giving them the o
 pportunity to gain valuable hands-on experience in building their own 
 Zenith Aircraft kit plane. Participants get the opportunity to actuall
 y start assembling kit parts under the direction and guidance of facto
 ry professionals. They \"graduate\" from the workshop upon completing 
 construction of their own aircraft rudder tail section for one of Zeni
 th Aircraft Company's popular kit aircraft designs, including the popu
 lar new Zenith CH 750 series or the sleek CH 650 cruiser.\nDetails / 
 Sign Up\n\n\nFor more information visit https://zenith.aero/events/zen
 ith-factory-workshop-march-3-4-2016
DTSTART:20160303T150000Z
DTEND:20160304T180000Z
CATEGORIES:workshop
LOCATION:Zenith Aircraft factory
WEBSITE:http://www.zenithair.com/workshop.htm
URL:http://www.zenithair.com/workshop.htm
CONTACT:573-581-9000
ORGANIZER:Zenith Aircraft Co.
ATTACH;FMTTYPE="image/jpeg":http://storage.ning.com/topology/rest/1.0/
 file/get/2268472573?profile=original
ATTENDEE;ROLE=REQ-PARTICIPANT;PARTSTAT=ACCEPTED;RSVP=TRUE;CN="Sebastie
 n Heintz":https://zenith.aero/profile/SHeintz
END:VEVENT
END:VCALENDAR
