BEGIN:VCALENDAR
PRODID:NingEventWidget-v1
VERSION:2.0
METHOD:PUBLISH
BEGIN:VEVENT
UID:2606393:Event:427365
DTSTAMP:20260423T072856Z
SUMMARY:Zenith Factory Workshop: June 18 & 19, 2015
DESCRIPTION:Zenith Factory Workshop\n We invite you to join us at our 
 next factory workshop to gain hands-on experience in building your own
  Zenith aircraft kit! Zenith Aircraft Company's factory workshops have
  become popular with sport aviation enthusiasts, giving them the oppor
 tunity to gain valuable hands-on experience in building their own Zeni
 th Aircraft kit plane. Participants get the opportunity to actually st
 art assembling kit parts under the direction and guidance of factory p
 rofessionals. They \"graduate\" from the workshop upon completing cons
 truction of their own aircraft rudder tail section for one of Zenith A
 ircraft Company's popular kit aircraft designs, including the popular 
 new Zenith CH 750 series or the sleek CH 650 cruiser.\nDetails / Sign
  Up\n\n\nFor more information visit https://zenith.aero/events/zenith-
 factory-workshop-may-21-22-2015
DTSTART:20150618T140000Z
DTEND:20150619T170000Z
CATEGORIES:workshop
LOCATION:Zenith Aircraft factory
WEBSITE:http://www.zenithair.com/workshop.htm
URL:http://www.zenithair.com/workshop.htm
CONTACT:573-581-9000
ORGANIZER:Zenith Aircraft Co.
ATTACH;FMTTYPE="image/jpeg":http://storage.ning.com/topology/rest/1.0/
 file/get/2268215445?profile=original
ATTENDEE;ROLE=REQ-PARTICIPANT;PARTSTAT=ACCEPTED;RSVP=TRUE;CN="Sebastie
 n Heintz":https://zenith.aero/profile/SHeintz
END:VEVENT
END:VCALENDAR
