BEGIN:VCALENDAR
PRODID:NingEventWidget-v1
VERSION:2.0
METHOD:PUBLISH
BEGIN:VEVENT
UID:2606393:Event:454990
DTSTAMP:20260424T043028Z
SUMMARY:Zenith Factory Workshop: November 19 & 20, 2015
DESCRIPTION:Zenith Factory Workshop\n We invite you to join us at our 
 next factory workshop to gain hands-on experience in building your own
  Zenith aircraft kit! Zenith Aircraft Company's factory workshops have
  become popular with sport aviation enthusiasts, giving them the oppor
 tunity to gain valuable hands-on experience in building their own Zeni
 th Aircraft kit plane. Participants get the opportunity to actually st
 art assembling kit parts under the direction and guidance of factory p
 rofessionals. They \"graduate\" from the workshop upon completing cons
 truction of their own aircraft rudder tail section for one of Zenith A
 ircraft Company's popular kit aircraft designs, including the popular 
 new Zenith CH 750 series or the sleek CH 650 cruiser.\nDetails / Sign
  Up\n\n\nFor more information visit https://zenith.aero/events/zenith-
 factory-workshop-november-19-20-2015
DTSTART:20151119T150000Z
DTEND:20151120T180000Z
CATEGORIES:workshop
LOCATION:Zenith Aircraft factory
WEBSITE:http://www.zenithair.com/workshop.htm
URL:http://www.zenithair.com/workshop.htm
CONTACT:5735819000
ORGANIZER;CN="Zenith.Aero":https://zenith.aero/profile/Admin
ATTACH;FMTTYPE="image/jpeg":http://storage.ning.com/topology/rest/1.0/
 file/get/2268215445?profile=original
ATTENDEE;ROLE=REQ-PARTICIPANT;PARTSTAT=ACCEPTED;RSVP=TRUE;CN="Dale Cou
 rtney":https://zenith.aero/profile/JerryDaleCourtney
ATTENDEE;ROLE=REQ-PARTICIPANT;PARTSTAT=ACCEPTED;RSVP=TRUE;CN="Zenith.A
 ero":https://zenith.aero/profile/Admin
END:VEVENT
END:VCALENDAR
