BEGIN:VCALENDAR
PRODID:NingEventWidget-v1
VERSION:2.0
METHOD:PUBLISH
BEGIN:VEVENT
UID:2606393:Event:913376
DTSTAMP:20260424T074429Z
SUMMARY:Zenith Factory Workshop: November 2 & 3, 2023
DESCRIPTION:Zenith Aircraft Hands-On Workshop \r\nWe invite you to joi
 n us at our November 2023 factory workshop class to gain hands-on expe
 rience in building your own Zenith aircraft kit! \r\nZenith Aircraft C
 ompany's factory workshops are popular with sport aviation enthusiasts
 , giving them the opportunity to gain valuable hands-on experience in 
 building their own Zenith Aircraft kit plane. Participants get the opp
 ortunity to actually start assembling kit parts under the direction an
 d guidance of factory professionals.\r\nOf course, going up for a demo
  flight is an important part of the workshop experience!\r\n\r\nPartic
 ipants \"graduate\" from the workshop upon completing construction of 
 their own aircraft rudder tail section for one of Zenith Aircraft Comp
 any's popular kit aircraft designs, including the popular new Zenith C
 H 750 series or the sleek CH 650 cruiser.\r\nDetails / Sign Up\r\n\r\
 nParticipating at the factory workshop makes an excellent getaway for 
 you and your spouse or a friend! Spend a couple of days at the Zeni
 th Aircraft factory and meet with fellow aviation enthusiasts - all w
 hile gaining valuable hands-on building skills.\r\n\n\nFor more inform
 ation visit https://zenith.aero/events/zenith-factory-workshop-novembe
 r-2-3-2023
DTSTART:20231102T140000Z
DTEND:20231103T170000Z
CATEGORIES:workshop
LOCATION:Zenith Aircraft factory
WEBSITE:https://www.zenithair.co/zenithstore/product/november-workshop
 /
URL:https://www.zenithair.co/zenithstore/product/november-workshop/
CONTACT:5735819000
ORGANIZER:Zenith Aircraft Co.
ATTACH;FMTTYPE="image/jpeg":https://storage.ning.com/topology/rest/1.0
 /file/get/10457322668?profile=original
ATTENDEE;ROLE=REQ-PARTICIPANT;PARTSTAT=ACCEPTED;RSVP=TRUE;CN="Zenith A
 ero":https://zenith.aero/profile/ZenithAero
END:VEVENT
END:VCALENDAR
