BEGIN:VCALENDAR
PRODID:NingEventWidget-v1
VERSION:2.0
METHOD:PUBLISH
BEGIN:VEVENT
UID:2606393:Event:870383
DTSTAMP:20260424T062411Z
SUMMARY:Zenith Factory Workshop: September 14 & 15 - FULL
DESCRIPTION:This workshop class is at FULL capacity.\r\n\r\nZenith Air
 craft Hands-On Workshop\r\nWe invite you to join us at our September 2
 022 factory workshop to gain hands-on experience in building your own 
 Zenith aircraft kit! This workshop event is held right before the annu
 al Zenith Homecoming on Friday and Saturday, September 16 & 17, at the
  factory.\r\nZenith Aircraft Company's factory workshops have become p
 opular with sport aviation enthusiasts, giving them the opportunity to
  gain valuable hands-on experience in building their own Zenith Aircra
 ft kit plane. Participants get the opportunity to actually start assem
 bling kit parts under the direction and guidance of factory profession
 als.\r\nOf course, going up for a demo flight is an important part of 
 the workshop experience!\r\n\r\nParticipants \"graduate\" from the wor
 kshop upon completing construction of their own aircraft rudder tail s
 ection for one of Zenith Aircraft Company's popular kit aircraft desig
 ns, including the popular new Zenith CH 750 series or the sleek CH 650
  cruiser.\r\nDetails / Sign Up\r\n\r\nParticipating at the factory wo
 rkshop makes an excellent getaway for you and your spouse or a frien
 d! Spend a couple of days at the Zenith Aircraft factory and meet wi
 th fellow aviation enthusiasts - all while gaining valuable hands-on b
 uilding skills.\r\n\n\nFor more information visit https://zenith.aero/
 events/zenith-factory-workshop-september-14-15-2022
DTSTART:20220914T140000Z
DTEND:20220915T200000Z
CATEGORIES:workshop
LOCATION:Zenith Aircraft factory
WEBSITE:http://zenithair.com/events.htm
URL:http://zenithair.com/events.htm
CONTACT:5735819000
ORGANIZER:Zenith Aircraft Co.
ATTACH;FMTTYPE="image/jpeg":https://storage.ning.com/topology/rest/1.0
 /file/get/10457322668?profile=original
ATTENDEE;ROLE=REQ-PARTICIPANT;PARTSTAT=ACCEPTED;RSVP=TRUE;CN="Zenith A
 ero":https://zenith.aero/profile/ZenithAero
ATTENDEE;ROLE=REQ-PARTICIPANT;PARTSTAT=ACCEPTED;RSVP=TRUE;CN="Jonathon
  Payne":https://zenith.aero/profile/JonathonPayne
END:VEVENT
END:VCALENDAR
