BEGIN:VCALENDAR
PRODID:NingEventWidget-v1
VERSION:2.0
METHOD:PUBLISH
BEGIN:VEVENT
UID:2606393:Event:9490
DTSTAMP:20260423T085651Z
SUMMARY:22nd Annual Zenith Open Hangar Day & Fly-In Gathering
DESCRIPTION:Join us for our 22nd annual Zenith Open Hangar Day & Fly-I
 n Gathering! Aviation enthusiasts, especially builders and owners of Z
 enith Aircraft kit planes, are invited to drive or fly-in for the day.
  The Zenith Aircraft kit production facilities will be open for facto
 ry tours and Zenith's factory-demonstrator kit aircraft will be on dis
 play.  Once again, we've planned workshop activities, presentations 
 and more, starting on Friday afternoon (Sept. 20), with a Zenith Banqu
 et buffet dinner on Friday evening. We'll have factory reps from Garmi
 n and Dynon Avionics attending to show us their newest and greatest te
 chnology, and engine experts. \n\nView photos from last year\nVideo cl
 ip from last year\n\n\nFor more information visit https://zenith.aero
 /events/zenith-open-hangar-day-flyin
DTSTART:20130921T130000Z
DTEND:20130921T200000Z
CATEGORIES:fly, in, "open hangar", fly-in
LOCATION:Zenith Aircraft factory, Mexico Memorial Airport (KMYJ)
WEBSITE:http://www.zenithair.com/news/oh2013.html
URL:http://www.zenithair.com/news/oh2013.html
CONTACT:573-581-9000
ORGANIZER:Zenith Aircraft Company
ATTACH;FMTTYPE="image/jpeg":http://storage.ning.com/topology/rest/1.0/
 file/get/2268215654?profile=original
ATTENDEE;ROLE=REQ-PARTICIPANT;PARTSTAT=ACCEPTED;RSVP=TRUE;CN="Mike Arm
 stead":https://zenith.aero/profile/MikeArmstead277
ATTENDEE;ROLE=REQ-PARTICIPANT;PARTSTAT=ACCEPTED;RSVP=TRUE;CN="Tim Garr
 ett":https://zenith.aero/profile/TimGarrett
ATTENDEE;ROLE=REQ-PARTICIPANT;PARTSTAT=ACCEPTED;RSVP=TRUE;CN="Kerry Ow
 en":https://zenith.aero/profile/KerryOwen
ATTENDEE;ROLE=REQ-PARTICIPANT;PARTSTAT=ACCEPTED;RSVP=TRUE;CN="Gus Warr
 en":https://zenith.aero/profile/GusWarren
ATTENDEE;ROLE=REQ-PARTICIPANT;PARTSTAT=ACCEPTED;RSVP=TRUE;CN="Doug Mac
 Donald":https://zenith.aero/profile/DougMacDonald
ATTENDEE;ROLE=REQ-PARTICIPANT;PARTSTAT=ACCEPTED;RSVP=TRUE;CN="Ken Smit
 h":https://zenith.aero/profile/KenSmith
ATTENDEE;ROLE=REQ-PARTICIPANT;PARTSTAT=ACCEPTED;RSVP=TRUE;CN="Patrick 
 Hoyt":https://zenith.aero/profile/PatrickHoyt
ATTENDEE;ROLE=REQ-PARTICIPANT;PARTSTAT=ACCEPTED;RSVP=TRUE;CN="David Ga
 llagher":https://zenith.aero/profile/DavidGallagher
ATTENDEE;ROLE=REQ-PARTICIPANT;PARTSTAT=ACCEPTED;RSVP=TRUE;CN="Mark Tow
 nsend":https://zenith.aero/profile/MarkTownsend
ATTENDEE;ROLE=REQ-PARTICIPANT;PARTSTAT=ACCEPTED;RSVP=TRUE;CN="Wayne Cl
 agg":https://zenith.aero/profile/WayneClagg
ATTENDEE;ROLE=REQ-PARTICIPANT;PARTSTAT=ACCEPTED;RSVP=TRUE;CN="Sebastie
 n Heintz":https://zenith.aero/profile/SHeintz
ATTENDEE;ROLE=REQ-PARTICIPANT;PARTSTAT=TENTATIVE;RSVP=TRUE;CN="Bob Sim
 mons":https://zenith.aero/profile/BobSimmons
ATTENDEE;ROLE=REQ-PARTICIPANT;PARTSTAT=TENTATIVE;RSVP=TRUE;CN="Terry S
 amsa":https://zenith.aero/profile/TerrySamsa
ATTENDEE;ROLE=REQ-PARTICIPANT;PARTSTAT=TENTATIVE;RSVP=TRUE;CN="Tommy W
 alker":https://zenith.aero/profile/TommyWalker
END:VEVENT
END:VCALENDAR
