BEGIN:VCALENDAR
PRODID:NingEventWidget-v1
VERSION:2.0
METHOD:PUBLISH
BEGIN:VEVENT
UID:2606393:Event:9468
DTSTAMP:20260423T085618Z
SUMMARY:Zenith \"Spring into Summer\" Fly-In Gathering
DESCRIPTION:Join us for our second \"Spring into Summer\" Fly-In Gathe
 ring at the Zenith factory located at Mexico Memorial Airport in Mexic
 o, Missouri. This is an informal grass-roots fly-in gathering open to 
 all aviation enthusiasts, especially builders and owners of Zenith Air
 craft kit planes.\nOwners of completed Zenith Aircraft are encouraged 
 to fly-in for the activities and to show off their completed project t
 o fellow builders (we will provide tie-down space and help facilitate 
 ground transportation if possible). Let us know of any special needs o
 r requirements. Please bring tie-downs for your aircraft if flying in,
  and bring yourself a lawn chair if driving in. The Zenith Aircraft fa
 ctory will be open from 8:00 am - 3:00 pm for self-guided factory tour
 s, demonstrations, and more, throughout the day.\n\nFor more informati
 on visit https://zenith.aero/events/zenith-spring-into-summer
DTSTART:20090627T130000Z
DTEND:20090627T200000Z
CATEGORIES:fly, in
LOCATION:Zenith Aircraft factory, Mexico Memorial Airport (KMYJ)
WEBSITE:http://www.zenithair.com/events.htm
URL:http://www.zenithair.com/events.htm
CONTACT:573-581-9000
ORGANIZER:Zenith Aircraft Company
ATTACH;FMTTYPE="image/jpeg":http://storage.ning.com/topology/rest/1.0/
 file/get/2268215654?profile=original
ATTENDEE;ROLE=REQ-PARTICIPANT;PARTSTAT=ACCEPTED;RSVP=TRUE;CN="Zenith.A
 ero":https://zenith.aero/profile/Admin
ATTENDEE;ROLE=REQ-PARTICIPANT;PARTSTAT=ACCEPTED;RSVP=TRUE;CN="Tom Ande
 rson":https://zenith.aero/profile/TomAnderson
ATTENDEE;ROLE=REQ-PARTICIPANT;PARTSTAT=ACCEPTED;RSVP=TRUE;CN="Tim Garr
 ett":https://zenith.aero/profile/TimGarrett
ATTENDEE;ROLE=REQ-PARTICIPANT;PARTSTAT=ACCEPTED;RSVP=TRUE;CN="Wayne Ba
 rtlett":https://zenith.aero/profile/WayneBartlett
ATTENDEE;ROLE=REQ-PARTICIPANT;PARTSTAT=ACCEPTED;RSVP=TRUE;CN="Jake Rey
 na":https://zenith.aero/profile/JakeReyna
ATTENDEE;ROLE=REQ-PARTICIPANT;PARTSTAT=ACCEPTED;RSVP=TRUE;CN="Sebastie
 n Heintz":https://zenith.aero/profile/SHeintz
ATTENDEE;ROLE=REQ-PARTICIPANT;PARTSTAT=TENTATIVE;RSVP=TRUE;CN="John Ca
 nge":https://zenith.aero/profile/JohnCange
ATTENDEE;ROLE=REQ-PARTICIPANT;PARTSTAT=TENTATIVE;RSVP=TRUE;CN="Wayne C
 lagg":https://zenith.aero/profile/WayneClagg
END:VEVENT
END:VCALENDAR
