BEGIN:VCALENDAR
PRODID:NingEventWidget-v1
VERSION:2.0
METHOD:PUBLISH
BEGIN:VEVENT
UID:2606393:Event:725505
DTSTAMP:20260421T093207Z
SUMMARY:Zenith Workshop: August 13 & 14, 2020
DESCRIPTION:Zenith Aircraft Hands-On Workshop\r\n We invite you to joi
 n us at our August 2020 factory workshop to gain hands-on experience i
 n building your own Zenith aircraft kit!  \r\nWith the ongoing COVID
 -19 pandemic, we are limiting visitor activities at the Zenith kit air
 craft factory to follow social distancing and other rules in affect at
  the time, to protect both visitors and employees. However, we are ope
 n for factory visits by appointment and we have resumed some in-person
  activities such as hands-on workshops and demo flights (by appointmen
 t and with some restrictions).\r\nZenith Aircraft Company's factory wo
 rkshops have become popular with sport aviation enthusiasts, giving th
 em the opportunity to gain valuable hands-on experience in building th
 eir own Zenith Aircraft kit plane. Participants get the opportunity to
  actually start assembling kit parts under the direction and guidance 
 of factory professionals.\r\nOf course, going up for a demo flight is 
 an important part of the workshop experience!\r\n\r\nParticipants \"gr
 aduate\" from the workshop upon completing construction of their own a
 ircraft rudder tail section for one of Zenith Aircraft Company's popul
 ar kit aircraft designs, including the popular new Zenith CH 750 serie
 s or the sleek CH 650 cruiser.\r\nDetails / Sign Up\r\n\n\nFor more i
 nformation visit https://zenith.aero/events/zenith-workshop-august-13-
 14-2020
DTSTART:20200813T140000Z
DTEND:20200814T210000Z
CATEGORIES:workshop, virtual, online
LOCATION:Zenith Aircraft factory
WEBSITE:https://www.zenithair.co/zenithstore/product/may-workshop-virt
 ual-event/
URL:https://www.zenithair.co/zenithstore/product/may-workshop-virtual-
 event/
CONTACT:573-581-9000
ORGANIZER:Zenith Aircraft Co.
ATTACH;FMTTYPE="image/jpeg":https://storage.ning.com/topology/rest/1.0
 /file/get/3652251282?profile=original
ATTENDEE;ROLE=REQ-PARTICIPANT;PARTSTAT=ACCEPTED;RSVP=TRUE;CN="Zenith A
 ero":https://zenith.aero/profile/ZenithAero
ATTENDEE;ROLE=REQ-PARTICIPANT;PARTSTAT=TENTATIVE;RSVP=TRUE;CN="Anthony
  Polster":https://zenith.aero/profile/AnthonyPolster
END:VEVENT
END:VCALENDAR
