BEGIN:VCALENDAR
PRODID:NingEventWidget-v1
VERSION:2.0
METHOD:PUBLISH
BEGIN:VEVENT
UID:2606393:Event:849143
DTSTAMP:20260420T005704Z
SUMMARY:Zenith Workshop: December 2 and 3, in Lakeland, Florida!
DESCRIPTION:Zenith Aircraft Hands-On Workshop  We invite you to join u
 s at our December 2021 workshop in Lakeland, Florida, to gain hands-on
  experience in building your own Zenith aircraft kit!\r\n\r\nMore deta
 ils and photos about the Florida workshop\r\nRegister for the workshop
   \r\n\r\nZenith Aircraft Company is returning to Florida for Sun ‘
 n Fun’s Holiday Flying Festival and Car Show in early December to ho
 st its popular hands-on kit aircraft building workshop. The two-day wo
 rkshop will be held December 2 & 3, 2021 (immediately before the Sun '
 n Fun Fly-In Festival), on the Sun ’n Fun Expo campus. The workshop 
 will start on Thursday morning, December 2, inside the Buehler Aerospa
 ce Restoration and Training Center, part of the Aerospace Center for E
 xcellence (ACE) at the Sun ’n Fun complex at Lakeland Linder Interna
 tional Airport. Zenith Aircraft’s hands-on workshops are primarily f
 or first-time kit airplane builders and have become popular with sport
  aviation enthusiasts who are considering to build their own aircraft 
 and are unsure if they have the required skills, workspace and tools. 
 During the workshop each participant builds and assembles their own Ze
 nith aircraft rudder tail section from a standard Zenith kit. The two-
 day workshop concludes once participants have successfully completed a
 ssembly of their own rudder tail section of the aircraft. In the proce
 ss of building the rudder assembly, participants tackle many activitie
 s including learning how to read drawings (blueprints) and work with a
 ssembly instructions (manuals) under the expert guidance of factory st
 aff. They learn the procedures for putting together an aircraft assemb
 ly, including drilling and blind riveting. In the end, they have an as
 sembled rudder that is ready to install on a Zenith kit airplane.  The
  hands-on workshop is an excellent way to learn about building your ow
 n (amateur-built) kit airplane and about the many advantages of owning
  and flying an airplane that you’ve built yourself. Kit aircraft is 
 a segment of general aviation that is growing (while much of general a
 viation activities continue to decline year over year). For many, buil
 ding an aircraft is a very rewarding experience, and today’s modern 
 kits make it easier and quicker to build than even before. Standard wo
 rkshop fees are $375.00 (or $425 for the CH 750 Super Duty model) and 
 include the complete rudder kit for a Zenith aircraft. Additional help
 ers are encouraged to attend and can participate for free. To learn mo
 re about the workshop program, visit zenithair.com or call Zenith Airc
 raft directly: (573) 581-9000 (Mon – Fri, 8 – 5 Central). Prior re
 gistration is required for the rudder workshop. \r\nSign Up Now for th
 e December Workshop\n\nFor more information visit https://zenith.aero/
 events/zenith-workshop-december-2-and-3-in-lakeland-florida
DTSTART:20211202T060000Z
DTEND:20211204T055900Z
CATEGORIES:workshop
LOCATION:Buehler Hangar, Sun 'n Fun, Lakeland, Florida
WEBSITE:https://www.zenithair.co/zenithstore/product/december-workshop
 -event/
URL:https://www.zenithair.co/zenithstore/product/december-workshop-eve
 nt/
CONTACT:573-581-9000
ORGANIZER:Zenith Aircraft Co.
ATTACH;FMTTYPE="image/jpeg":https://storage.ning.com/topology/rest/1.0
 /file/get/9649041258?profile=original
ATTENDEE;ROLE=REQ-PARTICIPANT;PARTSTAT=ACCEPTED;RSVP=TRUE;CN="Sebastie
 n Heintz":https://zenith.aero/profile/SHeintz
ATTENDEE;ROLE=REQ-PARTICIPANT;PARTSTAT=ACCEPTED;RSVP=TRUE;CN="Zenith A
 ero":https://zenith.aero/profile/ZenithAero
ATTENDEE;ROLE=REQ-PARTICIPANT;PARTSTAT=ACCEPTED;RSVP=TRUE;CN="Herman E
 shuis":https://zenith.aero/profile/HermanEshuis
END:VEVENT
END:VCALENDAR
