BEGIN:VCALENDAR
PRODID:NingEventWidget-v1
VERSION:2.0
METHOD:PUBLISH
BEGIN:VEVENT
UID:2606393:Event:734082
DTSTAMP:20260421T081621Z
SUMMARY:Zenith Workshop: October 8 & 9, 2020
DESCRIPTION:Zenith Aircraft Hands-On Workshop  We invite you to join u
 s at our October 2020 factory workshop to gain hands-on experience in 
 building your own Zenith aircraft kit!\r\nSign Up Now for the October 
 Workshop\r\nWith the ongoing COVID-19 pandemic, we are limiting visito
 r activities at the Zenith kit aircraft factory to follow social dista
 ncing and other rules in affect at the time, to protect both visitors 
 and employees. However, we are open for factory visits by appointment 
 and we have resumed some in-person activities such as hands-on worksho
 ps and demo flights (by appointment and with some restrictions).\r\nZe
 nith Aircraft Company's factory workshops have become popular with spo
 rt aviation enthusiasts, giving them the opportunity to gain valuable 
 hands-on experience in building their own Zenith Aircraft kit plane. P
 articipants get the opportunity to actually start assembling kit parts
  under the direction and guidance of factory professionals.\r\nOf cour
 se, going up for a demo flight is an important part of the workshop ex
 perience!\r\n\r\nParticipants \"graduate\" from the workshop upon comp
 leting construction of their own aircraft rudder tail section for one 
 of Zenith Aircraft Company's popular kit aircraft designs, including t
 he popular new Zenith CH 750 series or the sleek CH 650 cruiser.\r\nD
 etails / Sign Up\r\n\n\nFor more information visit https://zenith.aero
 /events/zenith-workshop-october-8-9-2020
DTSTART:20201008T140000Z
DTEND:20201009T210000Z
CATEGORIES:workshop, virtual, online
LOCATION:Zenith Aircraft factory
WEBSITE:https://www.zenithair.co/zenithstore/product/may-workshop-virt
 ual-event/
URL:https://www.zenithair.co/zenithstore/product/may-workshop-virtual-
 event/
CONTACT:573-581-9000
ORGANIZER:Zenith Aircraft Co.
ATTACH;FMTTYPE="image/jpeg":https://storage.ning.com/topology/rest/1.0
 /file/get/3652251282?profile=original
ATTENDEE;ROLE=REQ-PARTICIPANT;PARTSTAT=ACCEPTED;RSVP=TRUE;CN="Zenith A
 ero":https://zenith.aero/profile/ZenithAero
END:VEVENT
END:VCALENDAR
