BEGIN:VCALENDAR
PRODID:NingEventWidget-v1
VERSION:2.0
METHOD:PUBLISH
BEGIN:VEVENT
UID:2606393:Event:731211
DTSTAMP:20260421T081507Z
SUMMARY:Zenith Workshop: September 16 & 17, 2020 - FULL
DESCRIPTION:Zenith Aircraft Hands-On Workshop\r\n\r\nThis event is now
  full.\r\n  We invite you to join us at our September 2020 factory wor
 kshop to gain hands-on experience in building your own Zenith aircraft
  kit!  This workshop will be held right before the annual Open Hangar
  Days & Fly-In event.\r\nWith the ongoing COVID-19 pandemic, we are li
 miting visitor activities at the Zenith kit aircraft factory to follow
  social distancing and other rules in affect at the time, to protect b
 oth visitors and employees. However, we are open for factory visits by
  appointment and we have resumed some in-person activities such as han
 ds-on workshops and demo flights (by appointment and with some restric
 tions).\r\nZenith Aircraft Company's factory workshops have become pop
 ular with sport aviation enthusiasts, giving them the opportunity to g
 ain valuable hands-on experience in building their own Zenith Aircraft
  kit plane. Participants get the opportunity to actually start assembl
 ing kit parts under the direction and guidance of factory professional
 s.\r\nOf course, going up for a demo flight is an important part of th
 e workshop experience!\r\n\r\nParticipants \"graduate\" from the works
 hop upon completing construction of their own aircraft rudder tail sec
 tion for one of Zenith Aircraft Company's popular kit aircraft designs
 , including the popular new Zenith CH 750 series or the sleek CH 650 
 cruiser.\r\nDetails / Sign Up\r\n\n\nFor more information visit https:
 //zenith.aero/events/zenith-workshop-sept-2020
DTSTART:20200916T140000Z
DTEND:20200917T210000Z
CATEGORIES:workshop, virtual, online
LOCATION:Zenith Aircraft factory
WEBSITE:https://www.zenithair.co/zenithstore/product/may-workshop-virt
 ual-event/
URL:https://www.zenithair.co/zenithstore/product/may-workshop-virtual-
 event/
CONTACT:573-581-9000
ORGANIZER:Zenith Aircraft Co.
ATTACH;FMTTYPE="image/jpeg":https://storage.ning.com/topology/rest/1.0
 /file/get/3652251282?profile=original
ATTENDEE;ROLE=REQ-PARTICIPANT;PARTSTAT=ACCEPTED;RSVP=TRUE;CN="Zenith A
 ero":https://zenith.aero/profile/ZenithAero
ATTENDEE;ROLE=REQ-PARTICIPANT;PARTSTAT=ACCEPTED;RSVP=TRUE;CN="Sebastie
 n Heintz":https://zenith.aero/profile/SHeintz
END:VEVENT
END:VCALENDAR
