BEGIN:VCALENDAR
PRODID:NingEventWidget-v1
VERSION:2.0
METHOD:PUBLISH
BEGIN:VEVENT
UID:2606393:Event:23418
DTSTAMP:20260423T132154Z
SUMMARY:Zenith Zip 2009 Fly-In
DESCRIPTION:This year Zenith Zip 2009 under the aegis of the RAA Toron
 to Chapter located at the Brampton Flying Club airport in Ontario retu
 rns.\n\nCome and meet fellow builders and owners of Zenith aircraft.\n
 Forums/ exhibitors / Exchange ideas, tips, stories, good fellowship, e
 tc....\n\nCan-Zac Aviation will have a 750 Fuselage kit on hand for as
 sembly demonstration.\nMark will be demonstrating building techniques 
 and have a forum on scratch building.\n\nRudder Workshop with pre-regi
 stration to the workshop.\n\nBBQ lunches: Saturday and Sunday, Saturda
 y night dinner\n\nFor more information visit https://zenith.aero/event
 s/zenith-zip-2009-flyin
DTSTART:20090613T050000Z
DTEND:20090615T045900Z
CATEGORIES:fly-in
LOCATION:Hangar of the RAA Toronto Chapter at the Brampton Flying
WEBSITE:http://maps.google.com/maps?f=q&hl=en&geocode=&time=&date=&tty
 pe=&q=13691+mclaughlin+road,+L7C+3L7,canada&sll=-24.20689,-94.570312&s
 spn=125.264201,238.007813&ie=UTF8&ll=43.760401,-79.874554&spn=0.015095
 ,0.029054&t=h&z=15&om=1
URL:http://maps.google.com/maps?f=q&hl=en&geocode=&time=&date=&ttype=&
 q=13691+mclaughlin+road,+L7C+3L7,canada&sll=-24.20689,-94.570312&sspn=
 125.264201,238.007813&ie=UTF8&ll=43.760401,-79.874554&spn=0.015095,0.0
 29054&t=h&z=15&om=1
CONTACT:(519) 590-7601
ORGANIZER;CN="Mark Townsend":https://zenith.aero/profile/MarkTownsend
ATTACH;FMTTYPE="image/jpeg":
ATTENDEE;ROLE=REQ-PARTICIPANT;PARTSTAT=ACCEPTED;RSVP=TRUE;CN="Mark Tow
 nsend":https://zenith.aero/profile/MarkTownsend
END:VEVENT
END:VCALENDAR
